BEGIN:VCALENDAR
VERSION:2.0
PRODID:-//Cinema Falls - ECPv5.5.0//NONSGML v1.0//EN
CALSCALE:GREGORIAN
METHOD:PUBLISH
X-WR-CALNAME:Cinema Falls
X-ORIGINAL-URL:https://cinemafalls.com
X-WR-CALDESC:Events for Cinema Falls
BEGIN:VTIMEZONE
TZID:America/Chicago
BEGIN:DAYLIGHT
TZOFFSETFROM:-0600
TZOFFSETTO:-0500
TZNAME:CDT
DTSTART:20140309T080000
END:DAYLIGHT
BEGIN:STANDARD
TZOFFSETFROM:-0500
TZOFFSETTO:-0600
TZNAME:CST
DTSTART:20141102T070000
END:STANDARD
END:VTIMEZONE
BEGIN:VEVENT
DTSTART;TZID=America/Chicago:20140810T180000
DTEND;TZID=America/Chicago:20140810T213000
DTSTAMP:20260418T114643
CREATED:20170901T153837Z
LAST-MODIFIED:20170901T153900Z
UID:1006-1407693600-1407706200@cinemafalls.com
SUMMARY:Boyhood - Advanced Screening
DESCRIPTION:Boyhood – (dir. Richard Linklater)\nWest Mall 7 Theatres – Doors Open 6:00pm – Film Begins 6:30pm\nTRT: 165 min\nRating: R\nGenre: Drama \nThis is a special advanced screening of Boyhood! \nALL TICKET SALES ARE FINAL.
URL:https://cinemafalls.com/event/boyhood-advanced-screening/
LOCATION:West Mall 7 Theatres\, 2101 W 41st Street\, Sioux Falls\, SD\, 57105\, United States
ATTACH;FMTTYPE=image/jpeg:https://cinemafalls.com/wp-content/uploads/2017/08/boyhood-movie.jpg
END:VEVENT
END:VCALENDAR