BEGIN:VCALENDAR
VERSION:2.0
PRODID:-//Cinema Falls - ECPv5.5.0//NONSGML v1.0//EN
CALSCALE:GREGORIAN
METHOD:PUBLISH
X-WR-CALNAME:Cinema Falls
X-ORIGINAL-URL:https://cinemafalls.com
X-WR-CALDESC:Events for Cinema Falls
BEGIN:VTIMEZONE
TZID:America/Chicago
BEGIN:DAYLIGHT
TZOFFSETFROM:-0600
TZOFFSETTO:-0500
TZNAME:CDT
DTSTART:20170312T080000
END:DAYLIGHT
BEGIN:STANDARD
TZOFFSETFROM:-0500
TZOFFSETTO:-0600
TZNAME:CST
DTSTART:20171105T070000
END:STANDARD
END:VTIMEZONE
BEGIN:VEVENT
DTSTART;TZID=America/Chicago:20171203T180000
DTEND;TZID=America/Chicago:20171203T203000
DTSTAMP:20260423T151003
CREATED:20171103T191308Z
LAST-MODIFIED:20171130T175033Z
UID:1366-1512324000-1512333000@cinemafalls.com
SUMMARY:Loving Vincent
DESCRIPTION:Please note\, this event has been sold out. No additional tickets will be available at the door for this event. \nLoving Vincent – (dir. Dorota Kobiela\, Hugh Welchman)\nBelbas Theater\, Washington Pavilion\n6PM: Ticket includes admission to the Washington Pavilion Visual Arts Center for gallery viewing and a special pre-film art conversation on Post-Impressionism and the life and art of Van Gogh led by Dr. Lindsay Twa\, Associate Professor of Art at Augustana University.\n7PM: Film Event in Belbas Theater\n(Admission included for Fast Pass holders.) \nTRT: 95 min\nRating: PG13\nGenre: Animation\, Drama\, Art \nFilm Summary: The film brings the paintings of Vincent van Gogh to life to tell his remarkable story. Every one of the 65\,000 frames of the film is an oil-painting hand-painted by 125 professional oil-painters who travelled from all across the world to the LOVING VINCENT studios in Poland and Greece to be a part of the production. As remarkable as Vincent’s brilliant paintings\, is his passionate and ill-fated life\, and mysterious death. \nNo other artist has attracted more legends than Vincent van Gogh. Variously labelled a martyr\, a lustful satyr\, a madman\, a genius and a layabout\, the real Vincent is at once revealed in his letters\, and obscured by myth and time. Vincent himself said in his last letter: ‘We cannot speak other than by our paintings’. We take him at his word and let the paintings tell the real story of Vincent van Gogh. \nLoving Vincent was first shot as a live action film with actors\, and then hand-painted over frame-by-frame in oils. The final effect is an interaction of the performance of the actors playing Vincent’s famous portraits\, and the performance of the painting animators\, bringing these characters into the medium of paint. Loving Vincent stars famous faces to match the famous paintings they portray \n \nWhat the critics are saying: \n​A triumph of painstaking technical prowess and stunning visuals over storytelling and dialogue. See it for its nuanced take on a huge cultural figure and to applaud its astounding audacity.​​​ \n– Ian Freer\, Empire \nA long and arduous labor of love by Dorota Kobiela and Hugh Welchman\, this film turns van Gogh’s work into an unusual kind of biopic. \n– A.O. Scott\, The NYTimes \nReportedly the first fully painted animated film in history\, this seven-years-in-the-making effort is often breathtakingly beautiful.​ \n– Jeffrey M. Anderson\, Common Sense Media \nEvery one of the nearly 65\,000 frames in this near-lunatic labor of love was rendered by hand with oil paints\, following a style intended to mimic that of the master.​ \n– Peter Debruge\, Variety \nALL TICKET SALES ARE FINAL.
URL:https://cinemafalls.com/event/loving-vincent/
LOCATION:Belbas Theatre Washington Pavilion\, 301 S Main\, Sioux Falls\, SD\, 57104\, United States
ATTACH;FMTTYPE=image/jpeg:https://cinemafalls.com/wp-content/uploads/2017/11/loving-vincent-indie-film.jpg
ORGANIZER;CN="":MAILTO:curtis
END:VEVENT
END:VCALENDAR