BEGIN:VCALENDAR
VERSION:2.0
PRODID:-//Cinema Falls - ECPv5.5.0//NONSGML v1.0//EN
CALSCALE:GREGORIAN
METHOD:PUBLISH
X-WR-CALNAME:Cinema Falls
X-ORIGINAL-URL:https://cinemafalls.com
X-WR-CALDESC:Events for Cinema Falls
BEGIN:VTIMEZONE
TZID:America/Chicago
BEGIN:DAYLIGHT
TZOFFSETFROM:-0600
TZOFFSETTO:-0500
TZNAME:CDT
DTSTART:20190310T080000
END:DAYLIGHT
BEGIN:STANDARD
TZOFFSETFROM:-0500
TZOFFSETTO:-0600
TZNAME:CST
DTSTART:20191103T070000
END:STANDARD
END:VTIMEZONE
BEGIN:VEVENT
DTSTART;TZID=America/Chicago:20190929T183000
DTEND;TZID=America/Chicago:20190929T203000
DTSTAMP:20260420T111454
CREATED:20190906T015012Z
LAST-MODIFIED:20190929T143913Z
UID:6583-1569781800-1569789000@cinemafalls.com
SUMMARY:Official Secrets
DESCRIPTION:Official Secrets – (dir. Gavin Hood)\nWest Mall 7 – Doors Open 6:00pm – Film Begins 6:30pm\nTRT:  112 min\nRating: R (language)\nGenre: Drama\, Thriller\, Romance\, War\, Biography\nThis film included in Fast Pass admission. \nStarring: Keira Knightley\, Matthew Goode\, Ralph Fiennes \nFilm Summary: She risked everything to stop an unjust war. Her government called her a traitor. Based on world-shaking true events\, OFFICIAL SECRETS tells the gripping story of Katharine Gun (Keira Knightley)\, a British intelligence specialist whose job involves routine handling of classified information. One day in 2003\, in the lead up to the Iraq War\, Gun receives a memo from the NSA with a shocking directive: the United States is enlisting Britain’s help in collecting compromising information on United Nations Security Council members in order to blackmail them into voting in favor of an invasion of Iraq. Unable to stand by and watch the world be rushed into an illegal war\, Gun makes the gut-wrenching decision to defy her government and leak the memo to the press. So begins an explosive chain of events that will ignite an international firestorm\, expose a vast political conspiracy\, and put Gun and her family directly in harm’s way. \n \nWhat the critics are saying: \nAlthough Knightley’s Gun often seems to be a passive figure\, buffeted by the machinations of those around her\, the film’s honesty about the enormous personal costs of whistleblowing is a welcome relief from more romanticized heroics. \n\nAnn Hornaday – Washington Post \n\nScratches the surface of a deep and dark universe of things we’re not supposed to know but should. \n– Ty Burr\, Boston Globe \nOfficial Secrets is an incredibly smart film that celebrates the whistleblowers of the world. It also shows the occasional futility in these efforts as well. \n– Lorry Kikta – Film Threat \n[A] very solid\, totally respectable\, well-cast\, well-acted\, slow burn political thriller potboiler. \n– NPR – Los Angeles \nALL TICKET SALES ARE FINAL.
URL:https://cinemafalls.com/event/official-secrets/
LOCATION:West Mall 7 Theatres\, 2101 W 41st Street\, Sioux Falls\, SD\, 57105\, United States
ATTACH;FMTTYPE=image/jpeg:https://cinemafalls.com/wp-content/uploads/2019/09/Official-Secrets-Featured-Image.001.jpeg
END:VEVENT
END:VCALENDAR