BEGIN:VCALENDAR
VERSION:2.0
PRODID:-//Cinema Falls - ECPv5.5.0//NONSGML v1.0//EN
CALSCALE:GREGORIAN
METHOD:PUBLISH
X-WR-CALNAME:Cinema Falls
X-ORIGINAL-URL:https://cinemafalls.com
X-WR-CALDESC:Events for Cinema Falls
BEGIN:VTIMEZONE
TZID:America/Chicago
BEGIN:DAYLIGHT
TZOFFSETFROM:-0600
TZOFFSETTO:-0500
TZNAME:CDT
DTSTART:20160313T080000
END:DAYLIGHT
BEGIN:STANDARD
TZOFFSETFROM:-0500
TZOFFSETTO:-0600
TZNAME:CST
DTSTART:20161106T070000
END:STANDARD
END:VTIMEZONE
BEGIN:VEVENT
DTSTART;TZID=America/Chicago:20160407T180000
DTEND;TZID=America/Chicago:20160407T203000
DTSTAMP:20260417T220849
CREATED:20170831T152633Z
LAST-MODIFIED:20170831T152633Z
UID:908-1460052000-1460061000@cinemafalls.com
SUMMARY:Skullmore - Rushmore
DESCRIPTION:Rushmore – (dir. Wes Anderson)\nIcon Lounge – Doors Open 6:00pm – Film Begins 7:00pm\nFeaturing the Art of Marc Wagner and Celebrating the Movie RUSHMORE\nWith Special Guests – The SD Mt. Rushmore Mascots\nMeet Marc Wagner + Art Exhibit + Merch Table\nTRT: 93 min\nRating: R for language and brief nudity.\nGenre: Comedy\, Drama \nStarring: Jason Schwartzman\, Bill Murray\, Olivia Williams and Luke Wilson. \nMingle and take your photo with Mt. Rushmore mascots. Dress in your favorite WES ANDERSON film character attire and compete for cool’ish prizes. Are you Max Fischer? Or more of a Steve Zissou? Or maybe you’re that Moonrise Kingdom couple?? O.R scrubs welcome. \nWe’re celebrating local artist Marc Wagner\, known for his “Skullmore” brand and Zine art. Come meet Marc (he also wears a red hat) and buy some art! Check out his work here: http://www.marcmakesthings.com   \nFilm Summary: “Rushmore” chronicles a year in the life of Max Fischer\, a student at Rushmore Academy\, one of the finest schools in the country. Max loves his prestigious school. He is the editor of the newspaper and yearbook; founder of the debate team\, the dodgeball society\, and the Max Fischer Players; and president of the French club\, German club\, chess club\, and practically everything else. Max is applying for early admission to Oxford. Harvard is his safety. However\, he is also one of the worst students in the school. Threatened with expulsion\, Max begins a new pursuit: falling for a first-grade teacher. But when Max’s tycoon mentor starts an affair with the teacher\, it triggers a war between Max and his friend. \n \nALL TICKET SALES ARE FINAL.
URL:https://cinemafalls.com/event/skullmore-rushmore/
LOCATION:Icon Lounge + Events\, 402 North Main Avenue\, Sioux Falls\, SD\, 57104\, United States
ATTACH;FMTTYPE=image/jpeg:https://cinemafalls.com/wp-content/uploads/2017/08/skullmore-rushmore.jpg
END:VEVENT
END:VCALENDAR