BEGIN:VCALENDAR
VERSION:2.0
PRODID:-//Cinema Falls - ECPv5.5.0//NONSGML v1.0//EN
CALSCALE:GREGORIAN
METHOD:PUBLISH
X-WR-CALNAME:Cinema Falls
X-ORIGINAL-URL:https://cinemafalls.com
X-WR-CALDESC:Events for Cinema Falls
BEGIN:VTIMEZONE
TZID:America/Chicago
BEGIN:DAYLIGHT
TZOFFSETFROM:-0600
TZOFFSETTO:-0500
TZNAME:CDT
DTSTART:20190310T080000
END:DAYLIGHT
BEGIN:STANDARD
TZOFFSETFROM:-0500
TZOFFSETTO:-0600
TZNAME:CST
DTSTART:20191103T070000
END:STANDARD
END:VTIMEZONE
BEGIN:VEVENT
DTSTART;TZID=America/Chicago:20191117T183000
DTEND;TZID=America/Chicago:20191117T200000
DTSTAMP:20260415T125953
CREATED:20191024T021209Z
LAST-MODIFIED:20191105T035754Z
UID:7157-1574015400-1574020800@cinemafalls.com
SUMMARY:Standing Up\, Falling Down
DESCRIPTION:Standing Up\, Falling Down – (dir. Matt Ratner)\nWest Mall 7 – Doors Open 6:00pm – Film Begins 6:30pm\nTRT:  91 min\nRating: R\nGenre: Comedy\, Drama\nThis film included in Fast Pass admission. \nAwards and Festivals: 2019 Tribeca Film Festival\, Heartland Film Festival\nStarring: Billy Crystal\, Ben Schwartz\, Eloise Mumford\, Nate Corddry\, Grace Gummer \nFilm Summary: STANDING UP\, FALLING DOWN had its world premiere at the Tribeca Film Festival\, going on to win the Humor and Humanity and Best Directorial Debut awards in October 2019 at the Heartland International Film Festival. Beyond the prestige\, this is Billy Crystal acting in a role you’ve rarely seen and will never forget.  \nFilm Summary:  Things are not going according to plan for Scott (Ben Schwartz)\, a stand-up comedian begrudgingly returning to Long Island after striking out on the Los Angeles comedy scene. He’s humiliated to move back in with his family and haunted by what could have been with Becky (Eloise Mumford)\, the hometown girlfriend he abruptly left for the West Coast. Wracked with doubt and facing the prospect of a soul-crushing “real” job\, Ben finds an unexpected connection with Marty (Billy Crystal)\, a local dermatologist and charming barfly with a penchant for karaoke. Scott learns that Marty’s larger-than-life personality and alcoholism mask past disappointments of his own. As their unlikely friendship evolves\, Marty and Scott find the strength to start confronting their long-simmering regrets. \nMatt Ratner’s feature directorial debut is a poignant\, warmhearted comedy anchored by its leads’ easy rapport and Crystal’s boundless charisma. Nate Corddry and Grace Gummer round out a strong supporting cast in this ode to companionship and facing failure together. (by Pamela Nemoto)  \nALL TICKET SALES ARE FINAL.
URL:https://cinemafalls.com/event/standing-up-falling-down/
LOCATION:West Mall 7 Theatres\, 2101 W 41st Street\, Sioux Falls\, SD\, 57105\, United States
ATTACH;FMTTYPE=image/jpeg:https://cinemafalls.com/wp-content/uploads/2019/10/Featured-Image-Standing-Up-Falling-Down.001.jpeg
END:VEVENT
END:VCALENDAR