BEGIN:VCALENDAR
VERSION:2.0
PRODID:-//Cinema Falls - ECPv5.5.0//NONSGML v1.0//EN
CALSCALE:GREGORIAN
METHOD:PUBLISH
X-WR-CALNAME:Cinema Falls
X-ORIGINAL-URL:https://cinemafalls.com
X-WR-CALDESC:Events for Cinema Falls
BEGIN:VTIMEZONE
TZID:America/Chicago
BEGIN:DAYLIGHT
TZOFFSETFROM:-0600
TZOFFSETTO:-0500
TZNAME:CDT
DTSTART:20180311T080000
END:DAYLIGHT
BEGIN:STANDARD
TZOFFSETFROM:-0500
TZOFFSETTO:-0600
TZNAME:CST
DTSTART:20181104T070000
END:STANDARD
END:VTIMEZONE
BEGIN:VEVENT
DTSTART;TZID=America/Chicago:20180422T183000
DTEND;TZID=America/Chicago:20180422T200000
DTSTAMP:20260415T130201
CREATED:20180404T201339Z
LAST-MODIFIED:20180404T220218Z
UID:2817-1524421800-1524427200@cinemafalls.com
SUMMARY:The Death of Stalin
DESCRIPTION:The Death of Stalin – (dir. Armando Iannucci)\nWest Mall 7 Theatres – Doors Open 6:00pm – Film Begins 6:30pm\nTRT: 107 min\nRating: R (language\, violence\, sexual references)\nGenre: Comedy\, Drama\, Black Comedy\nStarring: Steven Buscemi\, Jeffrey Tambor\, Paddi Considine\, Jason Isaacs\, Rupert Friend \nFilm Summary: The one-liners fly as fast as political fortunes fall in this uproarious\, wickedly irreverent satire from Armando Iannucci (Creator of TV’s Veep and In the Loop). Moscow\, 1953: when tyrannical dictator Joseph Stalin drops dead\, his parasitic cronies square off in a frantic power struggle to be the next Soviet leader. Among the contenders are the dweeby Georgy Malenkov (Jeffrey Tambor)\, the wily Nikita Khrushchev (Steve Buscemi)\, and the sadistic secret police chief Lavrentiy Beria (Simon Russell Beale). But as they bumble\, brawl\, and backstab their way to the top\, just who is running the government? Combining palace intrigue with rapid-fire farce\, this audacious comedy is a bitingly funny takedown of bureaucratic dysfunction performed to the hilt by a sparkling ensemble cast. \n \nWhat the critics are saying: \nAs Stanley Kubrick did with Dr. Strangelove\, Iannucci has built a satire not by twisting the truth but by nudging reality just a few inches further in the direction it was already going.​​ \n– Bilge Ebiri\, Village Voice \nIt’s often raucously hilarious\, neatly crafted\, sometimes visually striking\, packed with excellent performances and abrasively profane dialogue. Most significant of all\, it’s true. \n– Colin Covert\, Minneapolis Star Tribune \nDirector and co-writer Armando Iannucci puts it all on black (comedy)\, betting that the vast discrepancy between great power and small souls will make you laugh at the absurdity of it all – or at least not scream in horror. \n– Matthew Lickona\, San Diego Reader \nThe laughs come in jolts and waves in “The Death of Stalin\,” delivered in a brilliantly arranged mix of savage one-liners\, lacerating dialogue and perfectly timed slapstick that wouldn’t be out of place in a Three Stooges bit. Turning horror into comedy is nothing new\, but Mr. Iannucci’s unwavering embrace of these seemingly discordant genres as twin principles is bracing. In “The Death of Stalin\,” fear is so overwhelming\, so deeply embedded in everyday life that it distorts ordinary expression\, utterances\, gestures and bodies. It has turned faces into masks (alternately tragic and comic)\, people into caricatures\, death into a punch line. \n– Mahnola Dargis\, New York Times \nALL TICKET SALES ARE FINAL.
URL:https://cinemafalls.com/event/the-death-of-stalin/
LOCATION:West Mall 7 Theatres\, 2101 W 41st Street\, Sioux Falls\, SD\, 57105\, United States
ATTACH;FMTTYPE=image/jpeg:https://cinemafalls.com/wp-content/uploads/2018/04/death-of-stalin-indie-film.jpg
END:VEVENT
END:VCALENDAR